BEGIN:VCALENDAR
VERSION:2.0
PRODID:-//Triad Ultimate - ECPv6.15.19//NONSGML v1.0//EN
CALSCALE:GREGORIAN
METHOD:PUBLISH
X-WR-CALNAME:Triad Ultimate
X-ORIGINAL-URL:https://www.triadultimate.org
X-WR-CALDESC:Events for Triad Ultimate
REFRESH-INTERVAL;VALUE=DURATION:PT1H
X-Robots-Tag:noindex
X-PUBLISHED-TTL:PT1H
BEGIN:VTIMEZONE
TZID:America/New_York
BEGIN:DAYLIGHT
TZOFFSETFROM:-0500
TZOFFSETTO:-0400
TZNAME:EDT
DTSTART:20250309T070000
END:DAYLIGHT
BEGIN:STANDARD
TZOFFSETFROM:-0400
TZOFFSETTO:-0500
TZNAME:EST
DTSTART:20251102T060000
END:STANDARD
BEGIN:DAYLIGHT
TZOFFSETFROM:-0500
TZOFFSETTO:-0400
TZNAME:EDT
DTSTART:20260308T070000
END:DAYLIGHT
BEGIN:STANDARD
TZOFFSETFROM:-0400
TZOFFSETTO:-0500
TZNAME:EST
DTSTART:20261101T060000
END:STANDARD
BEGIN:DAYLIGHT
TZOFFSETFROM:-0500
TZOFFSETTO:-0400
TZNAME:EDT
DTSTART:20270314T070000
END:DAYLIGHT
BEGIN:STANDARD
TZOFFSETFROM:-0400
TZOFFSETTO:-0500
TZNAME:EST
DTSTART:20271107T060000
END:STANDARD
END:VTIMEZONE
BEGIN:VEVENT
DTSTART;TZID=America/New_York:20260511T180000
DTEND;TZID=America/New_York:20260511T200000
DTSTAMP:20260425T130747
CREATED:20260408T030619Z
LAST-MODIFIED:20260408T030619Z
UID:390-1778522400-1778529600@www.triadultimate.org
SUMMARY:Greensboro\, Lake Daniel Park
DESCRIPTION:
URL:https://www.triadultimate.org/event/greensboro-lake-daniel-park-4/
LOCATION:Lake Daniel Park\, 410 Mimosa Dr.\, Greensboro\, NC\, 27403\, United States
END:VEVENT
BEGIN:VEVENT
DTSTART;TZID=America/New_York:20260510T170000
DTEND;TZID=America/New_York:20260510T190000
DTSTAMP:20260425T130747
CREATED:20260408T023440Z
LAST-MODIFIED:20260408T024548Z
UID:378-1778432400-1778439600@www.triadultimate.org
SUMMARY:Winston @ Miller Park
DESCRIPTION:
URL:https://www.triadultimate.org/event/sundays-miller-park-may-10-2026/
LOCATION:Miller Park\, 400 Leisure Ln\, Winston-Salem\,\, NC\, 27103\, United States
END:VEVENT
BEGIN:VEVENT
DTSTART;TZID=America/New_York:20260509T100000
DTEND;TZID=America/New_York:20260509T120000
DTSTAMP:20260425T130747
CREATED:20260408T033926Z
LAST-MODIFIED:20260408T033926Z
UID:404-1778320800-1778328000@www.triadultimate.org
SUMMARY:Kernersville\, Triad Park
DESCRIPTION:
URL:https://www.triadultimate.org/event/kernersville-triad-park-5/
LOCATION:Triad Park\, 9652 West Market St\, Kernersville\, NC\, 27284\, United States
END:VEVENT
BEGIN:VEVENT
DTSTART;TZID=America/New_York:20260504T180000
DTEND;TZID=America/New_York:20260504T200000
DTSTAMP:20260425T130747
CREATED:20260408T030553Z
LAST-MODIFIED:20260408T030553Z
UID:389-1777917600-1777924800@www.triadultimate.org
SUMMARY:Greensboro\, Lake Daniel Park
DESCRIPTION:
URL:https://www.triadultimate.org/event/greensboro-lake-daniel-park-3/
LOCATION:Lake Daniel Park\, 410 Mimosa Dr.\, Greensboro\, NC\, 27403\, United States
END:VEVENT
BEGIN:VEVENT
DTSTART;TZID=America/New_York:20260503T170000
DTEND;TZID=America/New_York:20260503T190000
DTSTAMP:20260425T130747
CREATED:20260408T023013Z
LAST-MODIFIED:20260408T024654Z
UID:377-1777827600-1777834800@www.triadultimate.org
SUMMARY:Winston @ Miller Park
DESCRIPTION:
URL:https://www.triadultimate.org/event/sundays-miller-park-may-3-2026/
LOCATION:Miller Park\, 400 Leisure Ln\, Winston-Salem\,\, NC\, 27103\, United States
END:VEVENT
BEGIN:VEVENT
DTSTART;TZID=America/New_York:20260502T100000
DTEND;TZID=America/New_York:20260502T120000
DTSTAMP:20260425T130747
CREATED:20260408T033723Z
LAST-MODIFIED:20260408T033810Z
UID:403-1777716000-1777723200@www.triadultimate.org
SUMMARY:Kernersville\, Triad Park
DESCRIPTION:
URL:https://www.triadultimate.org/event/kernersville-triad-park-april-25-2026/
LOCATION:Triad Park\, 9652 West Market St\, Kernersville\, NC\, 27284\, United States
END:VEVENT
BEGIN:VEVENT
DTSTART;TZID=America/New_York:20260427T180000
DTEND;TZID=America/New_York:20260427T200000
DTSTAMP:20260425T130747
CREATED:20260408T030515Z
LAST-MODIFIED:20260408T030515Z
UID:388-1777312800-1777320000@www.triadultimate.org
SUMMARY:Greensboro\, Lake Daniel Park
DESCRIPTION:
URL:https://www.triadultimate.org/event/greensboro-lake-daniel-park-2/
LOCATION:Lake Daniel Park\, 410 Mimosa Dr.\, Greensboro\, NC\, 27403\, United States
END:VEVENT
BEGIN:VEVENT
DTSTART;TZID=America/New_York:20260426T140000
DTEND;TZID=America/New_York:20260426T160000
DTSTAMP:20260425T130747
CREATED:20260408T024003Z
LAST-MODIFIED:20260408T024502Z
UID:380-1777212000-1777219200@www.triadultimate.org
SUMMARY:Winston @ Miller Park
DESCRIPTION:
URL:https://www.triadultimate.org/event/sundays-miller-park-april-26-2026/
LOCATION:Miller Park\, 400 Leisure Ln\, Winston-Salem\,\, NC\, 27103\, United States
END:VEVENT
BEGIN:VEVENT
DTSTART;TZID=America/New_York:20260425T100000
DTEND;TZID=America/New_York:20260425T120000
DTSTAMP:20260425T130747
CREATED:20260408T033631Z
LAST-MODIFIED:20260408T033631Z
UID:402-1777111200-1777118400@www.triadultimate.org
SUMMARY:Kernersville\, Triad Park
DESCRIPTION:
URL:https://www.triadultimate.org/event/kernersville-triad-park-4/
LOCATION:Triad Park\, 9652 West Market St\, Kernersville\, NC\, 27284\, United States
END:VEVENT
BEGIN:VEVENT
DTSTART;TZID=America/New_York:20260420T180000
DTEND;TZID=America/New_York:20260420T200000
DTSTAMP:20260425T130747
CREATED:20260408T030437Z
LAST-MODIFIED:20260408T030437Z
UID:387-1776708000-1776715200@www.triadultimate.org
SUMMARY:Greensboro\, Lake Daniel Park
DESCRIPTION:
URL:https://www.triadultimate.org/event/greensboro-lake-daniel-park-april-20-2026/
LOCATION:Lake Daniel Park\, 410 Mimosa Dr.\, Greensboro\, NC\, 27403\, United States
END:VEVENT
BEGIN:VEVENT
DTSTART;TZID=America/New_York:20260419T140000
DTEND;TZID=America/New_York:20260419T160000
DTSTAMP:20260425T130747
CREATED:20260408T031705Z
LAST-MODIFIED:20260408T031705Z
UID:394-1776607200-1776614400@www.triadultimate.org
SUMMARY:Winston\, Miller Park
DESCRIPTION:
URL:https://www.triadultimate.org/event/winston-miller-park-april-19-2026/
LOCATION:Miller Park\, 400 Leisure Ln\, Winston-Salem\,\, NC\, 27103\, United States
END:VEVENT
BEGIN:VEVENT
DTSTART;TZID=America/New_York:20260418T100000
DTEND;TZID=America/New_York:20260418T120000
DTSTAMP:20260425T130747
CREATED:20260408T033612Z
LAST-MODIFIED:20260408T033612Z
UID:401-1776506400-1776513600@www.triadultimate.org
SUMMARY:Kernersville\, Triad Park
DESCRIPTION:
URL:https://www.triadultimate.org/event/kernersville-triad-park-3/
LOCATION:Triad Park\, 9652 West Market St\, Kernersville\, NC\, 27284\, United States
END:VEVENT
BEGIN:VEVENT
DTSTART;TZID=America/New_York:20260413T180000
DTEND;TZID=America/New_York:20260413T200000
DTSTAMP:20260425T130747
CREATED:20260408T030345Z
LAST-MODIFIED:20260408T030345Z
UID:386-1776103200-1776110400@www.triadultimate.org
SUMMARY:Greensboro\, Lake Daniel Park
DESCRIPTION:
URL:https://www.triadultimate.org/event/greensboro-lake-daniel-park-april-13-2026/
LOCATION:Lake Daniel Park\, 410 Mimosa Dr.\, Greensboro\, NC\, 27403\, United States
END:VEVENT
BEGIN:VEVENT
DTSTART;TZID=America/New_York:20260412T140000
DTEND;TZID=America/New_York:20260412T160000
DTSTAMP:20260425T130747
CREATED:20260408T031803Z
LAST-MODIFIED:20260408T031803Z
UID:395-1776002400-1776009600@www.triadultimate.org
SUMMARY:Winston\, Miller Park
DESCRIPTION:
URL:https://www.triadultimate.org/event/winston-miller-park-april-12-2026/
LOCATION:Miller Park\, 400 Leisure Ln\, Winston-Salem\,\, NC\, 27103\, United States
END:VEVENT
BEGIN:VEVENT
DTSTART;TZID=America/New_York:20260411T100000
DTEND;TZID=America/New_York:20260411T120000
DTSTAMP:20260425T130747
CREATED:20260408T033556Z
LAST-MODIFIED:20260408T033556Z
UID:400-1775901600-1775908800@www.triadultimate.org
SUMMARY:Kernersville\, Triad Park
DESCRIPTION:
URL:https://www.triadultimate.org/event/kernersville-triad-park-2/
LOCATION:Triad Park\, 9652 West Market St\, Kernersville\, NC\, 27284\, United States
END:VEVENT
BEGIN:VEVENT
DTSTART;TZID=America/New_York:20260406T180000
DTEND;TZID=America/New_York:20260406T200000
DTSTAMP:20260425T130747
CREATED:20260408T025206Z
LAST-MODIFIED:20260408T030304Z
UID:384-1775498400-1775505600@www.triadultimate.org
SUMMARY:Greensboro\, Lake Daniel Park
DESCRIPTION:
URL:https://www.triadultimate.org/event/greensboro-lake-daniel-park/
LOCATION:Lake Daniel Park\, 410 Mimosa Dr.\, Greensboro\, NC\, 27403\, United States
END:VEVENT
BEGIN:VEVENT
DTSTART;TZID=America/New_York:20260405T140000
DTEND;TZID=America/New_York:20260405T160000
DTSTAMP:20260425T130747
CREATED:20260408T033013Z
LAST-MODIFIED:20260408T033013Z
UID:397-1775397600-1775404800@www.triadultimate.org
SUMMARY:Winston\, Miller Park
DESCRIPTION:
URL:https://www.triadultimate.org/event/winston-miller-park/
LOCATION:Miller Park\, 400 Leisure Ln\, Winston-Salem\,\, NC\, 27103\, United States
END:VEVENT
BEGIN:VEVENT
DTSTART;TZID=America/New_York:20260404T100000
DTEND;TZID=America/New_York:20260404T120000
DTSTAMP:20260425T130747
CREATED:20260408T033402Z
LAST-MODIFIED:20260408T033435Z
UID:398-1775296800-1775304000@www.triadultimate.org
SUMMARY:Kernersville\, Triad Park
DESCRIPTION:
URL:https://www.triadultimate.org/event/kernersville-triad-park/
LOCATION:Triad Park\, 9652 West Market St\, Kernersville\, NC\, 27284\, United States
END:VEVENT
END:VCALENDAR