BEGIN:VCALENDAR
VERSION:2.0
PRODID:-//Triad Ultimate - ECPv6.15.19//NONSGML v1.0//EN
CALSCALE:GREGORIAN
METHOD:PUBLISH
X-WR-CALNAME:Triad Ultimate
X-ORIGINAL-URL:https://www.triadultimate.org
X-WR-CALDESC:Events for Triad Ultimate
REFRESH-INTERVAL;VALUE=DURATION:PT1H
X-Robots-Tag:noindex
X-PUBLISHED-TTL:PT1H
BEGIN:VTIMEZONE
TZID:America/New_York
BEGIN:DAYLIGHT
TZOFFSETFROM:-0500
TZOFFSETTO:-0400
TZNAME:EDT
DTSTART:20250309T070000
END:DAYLIGHT
BEGIN:STANDARD
TZOFFSETFROM:-0400
TZOFFSETTO:-0500
TZNAME:EST
DTSTART:20251102T060000
END:STANDARD
BEGIN:DAYLIGHT
TZOFFSETFROM:-0500
TZOFFSETTO:-0400
TZNAME:EDT
DTSTART:20260308T070000
END:DAYLIGHT
BEGIN:STANDARD
TZOFFSETFROM:-0400
TZOFFSETTO:-0500
TZNAME:EST
DTSTART:20261101T060000
END:STANDARD
BEGIN:DAYLIGHT
TZOFFSETFROM:-0500
TZOFFSETTO:-0400
TZNAME:EDT
DTSTART:20270314T070000
END:DAYLIGHT
BEGIN:STANDARD
TZOFFSETFROM:-0400
TZOFFSETTO:-0500
TZNAME:EST
DTSTART:20271107T060000
END:STANDARD
END:VTIMEZONE
BEGIN:VEVENT
DTSTART;TZID=America/New_York:20260523T100000
DTEND;TZID=America/New_York:20260523T120000
DTSTAMP:20260425T130203
CREATED:20260408T034106Z
LAST-MODIFIED:20260408T034106Z
UID:406-1779530400-1779537600@www.triadultimate.org
SUMMARY:Kernersville\, Triad Park
DESCRIPTION:
URL:https://www.triadultimate.org/event/kernersville-triad-park-7/
LOCATION:Triad Park\, 9652 West Market St\, Kernersville\, NC\, 27284\, United States
END:VEVENT
BEGIN:VEVENT
DTSTART;TZID=America/New_York:20260525T180000
DTEND;TZID=America/New_York:20260525T200000
DTSTAMP:20260425T130203
CREATED:20260408T030710Z
LAST-MODIFIED:20260408T030710Z
UID:392-1779732000-1779739200@www.triadultimate.org
SUMMARY:Greensboro\, Lake Daniel Park
DESCRIPTION:
URL:https://www.triadultimate.org/event/greensboro-lake-daniel-park-6/
LOCATION:Lake Daniel Park\, 410 Mimosa Dr.\, Greensboro\, NC\, 27403\, United States
END:VEVENT
BEGIN:VEVENT
DTSTART;TZID=America/New_York:20260530T100000
DTEND;TZID=America/New_York:20260530T120000
DTSTAMP:20260425T130203
CREATED:20260408T034156Z
LAST-MODIFIED:20260408T034156Z
UID:407-1780135200-1780142400@www.triadultimate.org
SUMMARY:Kernersville\, Triad Park
DESCRIPTION:
URL:https://www.triadultimate.org/event/kernersville-triad-park-may-30-2026/
LOCATION:Triad Park\, 9652 West Market St\, Kernersville\, NC\, 27284\, United States
END:VEVENT
BEGIN:VEVENT
DTSTART;TZID=America/New_York:20260601T180000
DTEND;TZID=America/New_York:20260601T200000
DTSTAMP:20260425T130203
CREATED:20260408T031343Z
LAST-MODIFIED:20260408T031343Z
UID:393-1780336800-1780344000@www.triadultimate.org
SUMMARY:Greensboro\, Lake Daniel Park
DESCRIPTION:
URL:https://www.triadultimate.org/event/greensboro-lake-daniel-park-7/
LOCATION:Lake Daniel Park\, 410 Mimosa Dr.\, Greensboro\, NC\, 27403\, United States
END:VEVENT
END:VCALENDAR